Package: widgetTools Version: 1.88.0 Command: /home/biocbuild/bbs-3.22-bioc/R/bin/R CMD INSTALL widgetTools StartedAt: 2025-11-11 15:08:45 -0500 (Tue, 11 Nov 2025) EndedAt: 2025-11-11 15:09:13 -0500 (Tue, 11 Nov 2025) EllapsedTime: 28.0 seconds RetCode: 0 Status: OK