Package: widgetTools Version: 1.88.0 Command: /home/biocbuild/bbs-3.22-bioc/R/bin/R CMD check --install=check:widgetTools.install-out.txt --library=/home/biocbuild/bbs-3.22-bioc/R/site-library --timings widgetTools_1.88.0.tar.gz StartedAt: 2025-11-12 05:26:56 -0500 (Wed, 12 Nov 2025) EndedAt: 2025-11-12 05:27:19 -0500 (Wed, 12 Nov 2025) EllapsedTime: 23.0 seconds RetCode: 0 Status: OK CheckDir: widgetTools.Rcheck Warnings: 0