Package: widgetTools Version: 1.88.0 Command: /home/biocbuild/bbs-3.22-bioc/R/bin/R CMD build --keep-empty-dirs --no-resave-data --md5 widgetTools StartedAt: 2025-11-11 20:55:26 -0500 (Tue, 11 Nov 2025) EndedAt: 2025-11-11 20:55:33 -0500 (Tue, 11 Nov 2025) EllapsedTime: 7.0 seconds RetCode: 0 Status: OK PackageFile: widgetTools_1.88.0.tar.gz PackageFileSize: 228.7 KiB