Package: widgetTools Version: 1.86.0 Command: /home/biocbuild/bbs-3.21-bioc/R/bin/R CMD build --keep-empty-dirs --no-resave-data widgetTools StartedAt: 2025-09-28 20:44:01 -0400 (Sun, 28 Sep 2025) EndedAt: 2025-09-28 20:44:08 -0400 (Sun, 28 Sep 2025) EllapsedTime: 7.0 seconds RetCode: 0 Status: OK PackageFile: widgetTools_1.86.0.tar.gz PackageFileSize: 228 KiB