Package: widgetTools Version: 1.86.0 Command: rm -rf widgetTools.buildbin-libdir && mkdir widgetTools.buildbin-libdir && /Users/biocbuild/BBS/utils/build-universal.sh widgetTools_1.86.0.tar.gz /Library/Frameworks/R.framework/Resources/bin/R widgetTools.buildbin-libdir StartedAt: 2025-09-27 20:01:24 -0400 (Sat, 27 Sep 2025) EndedAt: 2025-09-27 20:01:31 -0400 (Sat, 27 Sep 2025) EllapsedTime: 6.7 seconds RetCode: 0 Status: OK PackageFile: widgetTools_1.86.0.tgz PackageFileSize: 449.7 KiB