Package: weitrix Version: 1.22.0 Command: /home/biocbuild/R/R/bin/R CMD INSTALL weitrix StartedAt: 2025-11-13 22:04:07 -0000 (Thu, 13 Nov 2025) EndedAt: 2025-11-13 22:04:46 -0000 (Thu, 13 Nov 2025) EllapsedTime: 38.5 seconds RetCode: 0 Status: OK