Package: weitrix Version: 1.22.0 Command: /home/biocbuild/R/R/bin/R CMD build --keep-empty-dirs --no-resave-data weitrix StartedAt: 2025-11-14 06:20:32 -0000 (Fri, 14 Nov 2025) EndedAt: 2025-11-14 06:35:02 -0000 (Fri, 14 Nov 2025) EllapsedTime: 869.6 seconds RetCode: 0 Status: OK PackageFile: weitrix_1.22.0.tar.gz PackageFileSize: 5.84 MiB