Package: weitrix Version: 1.22.0 Command: /home/biocbuild/bbs-3.22-bioc/R/bin/R CMD check --install=check:weitrix.install-out.txt --library=/home/biocbuild/bbs-3.22-bioc/R/site-library --timings weitrix_1.22.0.tar.gz StartedAt: 2025-11-12 05:26:51 -0500 (Wed, 12 Nov 2025) EndedAt: 2025-11-12 05:40:54 -0500 (Wed, 12 Nov 2025) EllapsedTime: 843.4 seconds RetCode: 0 Status: OK CheckDir: weitrix.Rcheck Warnings: 0