Package: weitrix Version: 1.20.0 Command: /home/biocbuild/bbs-3.21-bioc/R/bin/R CMD INSTALL weitrix StartedAt: 2025-10-05 15:56:13 -0400 (Sun, 05 Oct 2025) EndedAt: 2025-10-05 15:56:40 -0400 (Sun, 05 Oct 2025) EllapsedTime: 27.8 seconds RetCode: 0 Status: OK