Package: weitrix Version: 1.20.0 Command: /home/biocbuild/bbs-3.21-bioc/R/bin/R CMD build --keep-empty-dirs --no-resave-data weitrix StartedAt: 2025-10-01 20:35:52 -0400 (Wed, 01 Oct 2025) EndedAt: 2025-10-01 20:44:23 -0400 (Wed, 01 Oct 2025) EllapsedTime: 511.1 seconds RetCode: 0 Status: OK PackageFile: weitrix_1.20.0.tar.gz PackageFileSize: 9.486 MiB