Package: weitrix Version: 1.20.0 Command: /Library/Frameworks/R.framework/Resources/bin/R CMD INSTALL weitrix StartedAt: 2025-10-13 16:38:18 -0400 (Mon, 13 Oct 2025) EndedAt: 2025-10-13 16:39:21 -0400 (Mon, 13 Oct 2025) EllapsedTime: 63.0 seconds RetCode: 0 Status: OK