Package: weitrix Version: 1.20.0 Command: /Library/Frameworks/R.framework/Resources/bin/R CMD build --keep-empty-dirs --no-resave-data weitrix StartedAt: 2025-04-21 18:51:13 -0400 (Mon, 21 Apr 2025) EndedAt: 2025-04-21 18:58:31 -0400 (Mon, 21 Apr 2025) EllapsedTime: 437.9 seconds RetCode: 0 Status: OK PackageFile: weitrix_1.20.0.tar.gz PackageFileSize: 8.966 MiB