Package: weitrix Version: 1.20.0 Command: /home/biocbuild/R/R/bin/R CMD build --keep-empty-dirs --no-resave-data weitrix StartedAt: 2025-09-26 07:00:23 -0000 (Fri, 26 Sep 2025) EndedAt: 2025-09-26 07:14:32 -0000 (Fri, 26 Sep 2025) EllapsedTime: 849.3 seconds RetCode: 0 Status: OK PackageFile: weitrix_1.20.0.tar.gz PackageFileSize: 8.555 MiB