Package: weitrix Version: 1.20.0 Command: /Library/Frameworks/R.framework/Resources/bin/R CMD INSTALL weitrix StartedAt: 2025-10-02 18:11:11 -0400 (Thu, 02 Oct 2025) EndedAt: 2025-10-02 18:11:44 -0400 (Thu, 02 Oct 2025) EllapsedTime: 33.1 seconds RetCode: 0 Status: OK