Package: weitrix Version: 1.20.0 Command: /Library/Frameworks/R.framework/Resources/bin/R CMD build --keep-empty-dirs --no-resave-data weitrix StartedAt: 2025-10-03 11:50:23 -0400 (Fri, 03 Oct 2025) EndedAt: 2025-10-03 12:01:08 -0400 (Fri, 03 Oct 2025) EllapsedTime: 644.4 seconds RetCode: 0 Status: OK PackageFile: weitrix_1.20.0.tar.gz PackageFileSize: 8.973 MiB