Package: weitrix Version: 1.20.0 Command: rm -rf weitrix.buildbin-libdir && mkdir weitrix.buildbin-libdir && /Users/biocbuild/BBS/utils/build-universal.sh weitrix_1.20.0.tar.gz /Library/Frameworks/R.framework/Resources/bin/R weitrix.buildbin-libdir StartedAt: 2025-10-04 20:30:13 -0400 (Sat, 04 Oct 2025) EndedAt: 2025-10-04 20:30:53 -0400 (Sat, 04 Oct 2025) EllapsedTime: 39.7 seconds RetCode: 0 Status: OK PackageFile: weitrix_1.20.0.tgz PackageFileSize: 9.255 MiB