Package: weitrix Version: 1.20.0 Maintainer: Paul Harrison MaintainerEmail: paul.harrison at monash.edu git_url: https://git.bioconductor.org/packages/weitrix git_branch: RELEASE_3_21 git_last_commit: 1269ffd git_last_commit_date: 2025-04-15 11:58:36 -0400 (Tue, 15 Apr 2025)