Package: webbioc Version: 1.82.0 Command: /home/biocbuild/R/R/bin/R CMD build --keep-empty-dirs --no-resave-data webbioc StartedAt: 2025-11-11 06:13:11 -0000 (Tue, 11 Nov 2025) EndedAt: 2025-11-11 06:13:47 -0000 (Tue, 11 Nov 2025) EllapsedTime: 36.0 seconds RetCode: 0 Status: OK PackageFile: webbioc_1.82.0.tar.gz PackageFileSize: 302.5 KiB