Package: webbioc Version: 1.80.0 Command: /home/biocbuild/bbs-3.21-bioc/R/bin/R CMD INSTALL webbioc StartedAt: 2025-09-28 15:59:17 -0400 (Sun, 28 Sep 2025) EndedAt: 2025-09-28 15:59:40 -0400 (Sun, 28 Sep 2025) EllapsedTime: 22.7 seconds RetCode: 0 Status: OK