Package: webbioc Version: 1.80.0 Command: /home/biocbuild/bbs-3.21-bioc/R/bin/R CMD check --install=check:webbioc.install-out.txt --library=/home/biocbuild/bbs-3.21-bioc/R/site-library --timings webbioc_1.80.0.tar.gz StartedAt: 2025-10-13 04:54:15 -0400 (Mon, 13 Oct 2025) EndedAt: 2025-10-13 04:55:55 -0400 (Mon, 13 Oct 2025) EllapsedTime: 100.1 seconds RetCode: 0 Status: OK CheckDir: webbioc.Rcheck Warnings: 0