Package: webbioc Version: 1.80.0 Command: /Library/Frameworks/R.framework/Resources/bin/R CMD INSTALL webbioc StartedAt: 2025-09-25 16:27:26 -0400 (Thu, 25 Sep 2025) EndedAt: 2025-09-25 16:28:13 -0400 (Thu, 25 Sep 2025) EllapsedTime: 47.1 seconds RetCode: 0 Status: OK