Package: webbioc Version: 1.82.0 Command: /Library/Frameworks/R.framework/Resources/bin/R CMD check --install=check:webbioc.install-out.txt --library=/Library/Frameworks/R.framework/Resources/library --no-vignettes --timings webbioc_1.82.0.tar.gz StartedAt: 2025-11-21 13:35:38 -0500 (Fri, 21 Nov 2025) EndedAt: 2025-11-21 13:38:55 -0500 (Fri, 21 Nov 2025) EllapsedTime: 197.0 seconds RetCode: 0 Status: OK CheckDir: webbioc.Rcheck Warnings: 0