Package: webbioc Version: 1.80.0 Command: /Library/Frameworks/R.framework/Resources/bin/R CMD build --keep-empty-dirs --no-resave-data webbioc StartedAt: 2025-09-25 23:34:51 -0400 (Thu, 25 Sep 2025) EndedAt: 2025-09-25 23:35:47 -0400 (Thu, 25 Sep 2025) EllapsedTime: 56.3 seconds RetCode: 0 Status: OK PackageFile: webbioc_1.80.0.tar.gz PackageFileSize: 310 KiB