Package: webbioc Version: 1.82.0 Command: /Library/Frameworks/R.framework/Resources/bin/R CMD check --install=check:webbioc.install-out.txt --library=/Library/Frameworks/R.framework/Resources/library --no-vignettes --timings webbioc_1.82.0.tar.gz StartedAt: 2025-11-01 01:01:29 -0400 (Sat, 01 Nov 2025) EndedAt: 2025-11-01 01:03:14 -0400 (Sat, 01 Nov 2025) EllapsedTime: 104.7 seconds RetCode: 0 Status: OK CheckDir: webbioc.Rcheck Warnings: 0