Package: webbioc Version: 1.80.0 Command: /Library/Frameworks/R.framework/Resources/bin/R CMD INSTALL webbioc StartedAt: 2025-09-25 17:48:19 -0400 (Thu, 25 Sep 2025) EndedAt: 2025-09-25 17:48:44 -0400 (Thu, 25 Sep 2025) EllapsedTime: 24.7 seconds RetCode: 0 Status: OK