Package: webbioc Version: 1.80.0 Command: /Library/Frameworks/R.framework/Resources/bin/R CMD check --install=check:webbioc.install-out.txt --library=/Library/Frameworks/R.framework/Resources/library --no-vignettes --timings webbioc_1.80.0.tar.gz StartedAt: 2025-10-11 18:23:40 -0400 (Sat, 11 Oct 2025) EndedAt: 2025-10-11 18:25:31 -0400 (Sat, 11 Oct 2025) EllapsedTime: 111.2 seconds RetCode: 0 Status: OK CheckDir: webbioc.Rcheck Warnings: 0