Package: weaver Version: 1.76.0 Command: /home/biocbuild/R/R/bin/R CMD INSTALL weaver StartedAt: 2025-11-13 21:09:40 -0000 (Thu, 13 Nov 2025) EndedAt: 2025-11-13 21:10:58 -0000 (Thu, 13 Nov 2025) EllapsedTime: 77.5 seconds RetCode: 0 Status: OK