Package: weaver Version: 1.76.0 Command: /home/biocbuild/bbs-3.22-bioc/R/bin/R CMD INSTALL weaver StartedAt: 2025-11-11 15:11:01 -0500 (Tue, 11 Nov 2025) EndedAt: 2025-11-11 15:11:36 -0500 (Tue, 11 Nov 2025) EllapsedTime: 35.7 seconds RetCode: 0 Status: OK