Package: weaver Version: 1.76.0 Command: /home/biocbuild/bbs-3.22-bioc/R/bin/R CMD build --keep-empty-dirs --no-resave-data --md5 weaver StartedAt: 2025-11-11 20:54:59 -0500 (Tue, 11 Nov 2025) EndedAt: 2025-11-11 20:55:04 -0500 (Tue, 11 Nov 2025) EllapsedTime: 5.0 seconds RetCode: 0 Status: OK PackageFile: weaver_1.76.0.tar.gz PackageFileSize: 232.9 KiB