Package: weaver Version: 1.74.0 Command: rm -rf weaver.buildbin-libdir && mkdir weaver.buildbin-libdir && /Users/biocbuild/BBS/utils/build-universal.sh weaver_1.74.0.tar.gz /Library/Frameworks/R.framework/Resources/bin/R weaver.buildbin-libdir StartedAt: 2025-10-14 15:03:19 -0400 (Tue, 14 Oct 2025) EndedAt: 2025-10-14 15:03:25 -0400 (Tue, 14 Oct 2025) EllapsedTime: 6.4 seconds RetCode: 0 Status: OK PackageFile: weaver_1.74.0.tgz PackageFileSize: 271.7 KiB