Package: weaver Version: 1.74.0 Command: /Library/Frameworks/R.framework/Resources/bin/R CMD INSTALL weaver StartedAt: 2025-10-06 15:18:34 -0400 (Mon, 06 Oct 2025) EndedAt: 2025-10-06 15:18:51 -0400 (Mon, 06 Oct 2025) EllapsedTime: 16.5 seconds RetCode: 0 Status: OK