Package: wavClusteR Version: 2.44.0 Command: /home/biocbuild/bbs-3.22-bioc/R/bin/R CMD build --keep-empty-dirs --no-resave-data --md5 wavClusteR StartedAt: 2025-11-11 20:54:46 -0500 (Tue, 11 Nov 2025) EndedAt: 2025-11-11 20:55:47 -0500 (Tue, 11 Nov 2025) EllapsedTime: 61.1 seconds RetCode: 0 Status: OK PackageFile: wavClusteR_2.44.0.tar.gz PackageFileSize: 782.1 KiB