Package: wavClusteR Version: 2.44.0 Command: /Library/Frameworks/R.framework/Resources/bin/R CMD INSTALL wavClusteR StartedAt: 2025-11-03 15:40:46 -0500 (Mon, 03 Nov 2025) EndedAt: 2025-11-03 15:41:38 -0500 (Mon, 03 Nov 2025) EllapsedTime: 51.8 seconds RetCode: 0 Status: OK