Package: wavClusteR Version: 2.44.0 Command: /Library/Frameworks/R.framework/Resources/bin/R CMD build --keep-empty-dirs --no-resave-data wavClusteR StartedAt: 2025-11-03 19:14:26 -0500 (Mon, 03 Nov 2025) EndedAt: 2025-11-03 19:15:37 -0500 (Mon, 03 Nov 2025) EllapsedTime: 70.8 seconds RetCode: 0 Status: OK PackageFile: wavClusteR_2.44.0.tar.gz PackageFileSize: 789.5 KiB