Package: wavClusteR Version: 2.44.0 Command: rm -rf wavClusteR.buildbin-libdir && mkdir wavClusteR.buildbin-libdir && /Users/biocbuild/BBS/utils/build-universal.sh wavClusteR_2.44.0.tar.gz /Library/Frameworks/R.framework/Resources/bin/R wavClusteR.buildbin-libdir StartedAt: 2025-11-04 02:10:33 -0500 (Tue, 04 Nov 2025) EndedAt: 2025-11-04 02:11:27 -0500 (Tue, 04 Nov 2025) EllapsedTime: 54.2 seconds RetCode: 0 Status: OK PackageFile: wavClusteR_2.44.0.tgz PackageFileSize: 896.2 KiB