Package: wavClusteR Version: 2.42.0 Command: /home/biocbuild/R/R/bin/R CMD INSTALL wavClusteR StartedAt: 2025-10-13 20:54:09 -0000 (Mon, 13 Oct 2025) EndedAt: 2025-10-13 20:55:04 -0000 (Mon, 13 Oct 2025) EllapsedTime: 55.3 seconds RetCode: 0 Status: OK