Package: wavClusteR Version: 2.42.0 Command: /home/biocbuild/R/R/bin/R CMD build --keep-empty-dirs --no-resave-data wavClusteR StartedAt: 2025-10-14 05:43:20 -0000 (Tue, 14 Oct 2025) EndedAt: 2025-10-14 05:44:49 -0000 (Tue, 14 Oct 2025) EllapsedTime: 89.1 seconds RetCode: 0 Status: OK PackageFile: wavClusteR_2.42.0.tar.gz PackageFileSize: 757.1 KiB