Package: wateRmelon Version: 2.16.0 Command: /home/biocbuild/bbs-3.22-bioc/R/bin/R CMD build --keep-empty-dirs --no-resave-data --md5 wateRmelon StartedAt: 2025-11-13 20:52:51 -0500 (Thu, 13 Nov 2025) EndedAt: 2025-11-13 20:54:24 -0500 (Thu, 13 Nov 2025) EllapsedTime: 93.1 seconds RetCode: 0 Status: OK PackageFile: wateRmelon_2.16.0.tar.gz PackageFileSize: 3.334 MiB