Package: wateRmelon Version: 2.14.0 Command: /home/biocbuild/R/R/bin/R CMD INSTALL wateRmelon StartedAt: 2025-10-13 21:20:35 -0000 (Mon, 13 Oct 2025) EndedAt: 2025-10-13 21:21:57 -0000 (Mon, 13 Oct 2025) EllapsedTime: 81.4 seconds RetCode: 0 Status: OK