Package: wateRmelon Version: 2.16.0 Command: /Library/Frameworks/R.framework/Resources/bin/R CMD INSTALL wateRmelon StartedAt: 2025-10-31 15:36:30 -0400 (Fri, 31 Oct 2025) EndedAt: 2025-10-31 15:36:51 -0400 (Fri, 31 Oct 2025) EllapsedTime: 20.9 seconds RetCode: 0 Status: OK