Package: wateRmelon Version: 2.16.0 Command: /Library/Frameworks/R.framework/Resources/bin/R CMD build --keep-empty-dirs --no-resave-data wateRmelon StartedAt: 2025-10-31 18:11:14 -0400 (Fri, 31 Oct 2025) EndedAt: 2025-10-31 18:11:54 -0400 (Fri, 31 Oct 2025) EllapsedTime: 39.4 seconds RetCode: 0 Status: OK PackageFile: wateRmelon_2.16.0.tar.gz PackageFileSize: 3.278 MiB