Package: wateRmelon Version: 2.16.0 Command: rm -rf wateRmelon.buildbin-libdir && mkdir wateRmelon.buildbin-libdir && /Users/biocbuild/BBS/utils/build-universal.sh wateRmelon_2.16.0.tar.gz /Library/Frameworks/R.framework/Resources/bin/R wateRmelon.buildbin-libdir StartedAt: 2025-10-31 23:27:57 -0400 (Fri, 31 Oct 2025) EndedAt: 2025-10-31 23:28:22 -0400 (Fri, 31 Oct 2025) EllapsedTime: 25.0 seconds RetCode: 0 Status: OK PackageFile: wateRmelon_2.16.0.tgz PackageFileSize: 3.693 MiB