Package: waddR Version: 1.24.0 Command: /home/biocbuild/bbs-3.22-bioc/R/bin/R CMD INSTALL waddR StartedAt: 2025-11-11 15:26:30 -0500 (Tue, 11 Nov 2025) EndedAt: 2025-11-11 15:27:14 -0500 (Tue, 11 Nov 2025) EllapsedTime: 43.8 seconds RetCode: 0 Status: OK