Package: waddR Version: 1.24.0 Command: /home/biocbuild/bbs-3.22-bioc/R/bin/R CMD build --keep-empty-dirs --no-resave-data --md5 waddR StartedAt: 2025-11-11 20:54:34 -0500 (Tue, 11 Nov 2025) EndedAt: 2025-11-11 20:56:13 -0500 (Tue, 11 Nov 2025) EllapsedTime: 99.1 seconds RetCode: 0 Status: OK PackageFile: waddR_1.24.0.tar.gz PackageFileSize: 153.7 KiB