Package: waddR Version: 1.24.0 Command: /Library/Frameworks/R.framework/Resources/bin/R CMD INSTALL waddR StartedAt: 2025-11-03 15:14:01 -0500 (Mon, 03 Nov 2025) EndedAt: 2025-11-03 15:14:17 -0500 (Mon, 03 Nov 2025) EllapsedTime: 15.9 seconds RetCode: 0 Status: OK