Package: waddR Version: 1.24.0 Command: /Library/Frameworks/R.framework/Resources/bin/R CMD build --keep-empty-dirs --no-resave-data waddR StartedAt: 2025-11-02 18:07:11 -0500 (Sun, 02 Nov 2025) EndedAt: 2025-11-02 18:07:38 -0500 (Sun, 02 Nov 2025) EllapsedTime: 27.3 seconds RetCode: 1 Status: ERROR PackageFile: None PackageFileSize: NA