Package: vulcan Version: 1.32.0 Command: /home/biocbuild/bbs-3.22-bioc/R/bin/R CMD check --install=check:vulcan.install-out.txt --library=/home/biocbuild/bbs-3.22-bioc/R/site-library --timings vulcan_1.32.0.tar.gz StartedAt: 2025-11-15 05:36:31 -0500 (Sat, 15 Nov 2025) EndedAt: 2025-11-15 05:44:09 -0500 (Sat, 15 Nov 2025) EllapsedTime: 458.4 seconds RetCode: 0 Status: OK CheckDir: vulcan.Rcheck Warnings: 0