Package: vulcan Version: 1.32.0 Command: /Library/Frameworks/R.framework/Resources/bin/R CMD INSTALL vulcan StartedAt: 2025-11-03 15:54:09 -0500 (Mon, 03 Nov 2025) EndedAt: 2025-11-03 15:55:30 -0500 (Mon, 03 Nov 2025) EllapsedTime: 81.5 seconds RetCode: 0 Status: OK