Package: vulcan Version: 1.32.0 Command: /Library/Frameworks/R.framework/Resources/bin/R CMD build --keep-empty-dirs --no-resave-data vulcan StartedAt: 2025-11-03 19:13:43 -0500 (Mon, 03 Nov 2025) EndedAt: 2025-11-03 19:15:25 -0500 (Mon, 03 Nov 2025) EllapsedTime: 101.5 seconds RetCode: 0 Status: OK PackageFile: vulcan_1.32.0.tar.gz PackageFileSize: 390 KiB