Package: vulcan Version: 1.32.0 Command: rm -rf vulcan.buildbin-libdir && mkdir vulcan.buildbin-libdir && /Users/biocbuild/BBS/utils/build-universal.sh vulcan_1.32.0.tar.gz /Library/Frameworks/R.framework/Resources/bin/R vulcan.buildbin-libdir StartedAt: 2025-11-04 02:10:30 -0500 (Tue, 04 Nov 2025) EndedAt: 2025-11-04 02:11:44 -0500 (Tue, 04 Nov 2025) EllapsedTime: 73.5 seconds RetCode: 0 Status: OK PackageFile: vulcan_1.32.0.tgz PackageFileSize: 463.5 KiB